BEGIN:VCALENDAR
VERSION:2.0
PRODID:-//Um Coletivo - ECPv6.14.2//NONSGML v1.0//EN
CALSCALE:GREGORIAN
METHOD:PUBLISH
X-WR-CALNAME:Um Coletivo
X-ORIGINAL-URL:https://umcoletivo.pt
X-WR-CALDESC:Eventos para Um Coletivo
REFRESH-INTERVAL;VALUE=DURATION:PT1H
X-Robots-Tag:noindex
X-PUBLISHED-TTL:PT1H
BEGIN:VTIMEZONE
TZID:UTC
BEGIN:STANDARD
TZOFFSETFROM:+0000
TZOFFSETTO:+0000
TZNAME:UTC
DTSTART:20240101T000000
END:STANDARD
END:VTIMEZONE
BEGIN:VEVENT
DTSTART;VALUE=DATE:20240504
DTEND;VALUE=DATE:20240505
DTSTAMP:20260420T071101
CREATED:20240322T180046Z
LAST-MODIFIED:20240322T180226Z
UID:10000016-1714780800-1714867199@umcoletivo.pt
SUMMARY:A Paz é a Paz - Auditório da Biblioteca Municipal da Figueira da Foz
DESCRIPTION:
URL:https://umcoletivo.pt/evento/a-paz-e-a-paz-auditorio-da-biblioteca-municipal-da-figueira-da-foz/2024-05-04/
LOCATION:Biblioteca municipal da Figueira da Foz\, Figueira da Foz\, Portugal
END:VEVENT
END:VCALENDAR