BEGIN:VCALENDAR
VERSION:2.0
PRODID:-//Um Coletivo - ECPv6.14.2//NONSGML v1.0//EN
CALSCALE:GREGORIAN
METHOD:PUBLISH
X-ORIGINAL-URL:https://umcoletivo.pt
X-WR-CALDESC:Eventos para Um Coletivo
REFRESH-INTERVAL;VALUE=DURATION:PT1H
X-Robots-Tag:noindex
X-PUBLISHED-TTL:PT1H
BEGIN:VTIMEZONE
TZID:UTC
BEGIN:STANDARD
TZOFFSETFROM:+0000
TZOFFSETTO:+0000
TZNAME:UTC
DTSTART:20250101T000000
END:STANDARD
END:VTIMEZONE
BEGIN:VEVENT
DTSTART;VALUE=DATE:20250308
DTEND;VALUE=DATE:20250309
DTSTAMP:20260419T185739
CREATED:20250122T114617Z
LAST-MODIFIED:20250204T161041Z
UID:10000031-1741392000-1741478399@umcoletivo.pt
SUMMARY:Mil e Uma Noites - Biblioteca Municipal de Lagoa
DESCRIPTION:Gravação ao vivo da sessão dedicada à cidade de Lagoa
URL:https://umcoletivo.pt/evento/mil-e-uma-noites-biblioteca-municipal-de-lagoa/
END:VEVENT
END:VCALENDAR