BEGIN:VCALENDAR
VERSION:2.0
PRODID:-//Um Coletivo - ECPv6.14.2//NONSGML v1.0//EN
CALSCALE:GREGORIAN
METHOD:PUBLISH
X-ORIGINAL-URL:https://umcoletivo.pt
X-WR-CALDESC:Eventos para Um Coletivo
REFRESH-INTERVAL;VALUE=DURATION:PT1H
X-Robots-Tag:noindex
X-PUBLISHED-TTL:PT1H
BEGIN:VTIMEZONE
TZID:UTC
BEGIN:STANDARD
TZOFFSETFROM:+0000
TZOFFSETTO:+0000
TZNAME:UTC
DTSTART:20250101T000000
END:STANDARD
END:VTIMEZONE
BEGIN:VEVENT
DTSTART;VALUE=DATE:20250526
DTEND;VALUE=DATE:20250527
DTSTAMP:20260419T233146
CREATED:20250522T100143Z
LAST-MODIFIED:20250522T100143Z
UID:10000044-1748217600-1748303999@umcoletivo.pt
SUMMARY:Lungo Drom com Maria Gil e Natália Serrana - Galeria Appleton - Lisboa
DESCRIPTION:
URL:https://umcoletivo.pt/evento/lungo-drom-com-maria-gil-e-natalia-serrana-galeria-appleton-lisboa/
END:VEVENT
END:VCALENDAR