BEGIN:VCALENDAR
VERSION:2.0
PRODID:-//Um Coletivo - ECPv6.14.2//NONSGML v1.0//EN
CALSCALE:GREGORIAN
METHOD:PUBLISH
X-WR-CALNAME:Um Coletivo
X-ORIGINAL-URL:https://umcoletivo.pt
X-WR-CALDESC:Eventos para Um Coletivo
REFRESH-INTERVAL;VALUE=DURATION:PT1H
X-Robots-Tag:noindex
X-PUBLISHED-TTL:PT1H
BEGIN:VTIMEZONE
TZID:UTC
BEGIN:STANDARD
TZOFFSETFROM:+0000
TZOFFSETTO:+0000
TZNAME:UTC
DTSTART:20250101T000000
END:STANDARD
END:VTIMEZONE
BEGIN:VEVENT
DTSTART;VALUE=DATE:20250913
DTEND;VALUE=DATE:20250914
DTSTAMP:20260420T054856
CREATED:20250804T161858Z
LAST-MODIFIED:20250804T161858Z
UID:10000068-1757721600-1757807999@umcoletivo.pt
SUMMARY:F de Fiama - Mariana Pineda - Teatro Cinema de Ponte de Sor
DESCRIPTION:
URL:https://umcoletivo.pt/evento/f-de-fiama-mariana-pineda-teatro-cinema-de-ponte-de-sor/
END:VEVENT
BEGIN:VEVENT
DTSTART;VALUE=DATE:20250917
DTEND;VALUE=DATE:20250918
DTSTAMP:20260420T054856
CREATED:20250804T163241Z
LAST-MODIFIED:20250804T163417Z
UID:10000080-1758067200-1758153599@umcoletivo.pt
SUMMARY:Mil e Uma Noites - Biblioteca Municipal da Covilhã
DESCRIPTION:
URL:https://umcoletivo.pt/evento/mil-e-uma-noites-biblioteca-municipal-da-covilha/
END:VEVENT
BEGIN:VEVENT
DTSTART;VALUE=DATE:20250919
DTEND;VALUE=DATE:20250920
DTSTAMP:20260420T054856
CREATED:20250804T162005Z
LAST-MODIFIED:20250819T215544Z
UID:10000069-1758240000-1758326399@umcoletivo.pt
SUMMARY:F de Fiama - Mariana Pineda - Cinema-Teatro Joaquim de Almeida - Montijo
DESCRIPTION:
URL:https://umcoletivo.pt/evento/f-de-fiama-mariana-pineda-cinema-teatro-joaquim-de-almeida-montijo/
END:VEVENT
BEGIN:VEVENT
DTSTART;VALUE=DATE:20250920
DTEND;VALUE=DATE:20250921
DTSTAMP:20260420T054856
CREATED:20250804T162049Z
LAST-MODIFIED:20250804T162049Z
UID:10000070-1758326400-1758412799@umcoletivo.pt
SUMMARY:F de Fiama - Mariana Pineda - Teatro-Cine de Torres Vedras
DESCRIPTION:
URL:https://umcoletivo.pt/evento/f-de-fiama-mariana-pineda-teatro-cine-de-torres-vedras/
END:VEVENT
BEGIN:VEVENT
DTSTART;VALUE=DATE:20250926
DTEND;VALUE=DATE:20250927
DTSTAMP:20260420T054856
CREATED:20250804T162128Z
LAST-MODIFIED:20250804T162128Z
UID:10000071-1758844800-1758931199@umcoletivo.pt
SUMMARY:F de Fiama - Mariana Pineda - Centro de Artes e Espetáculos de Portalegre
DESCRIPTION:
URL:https://umcoletivo.pt/evento/f-de-fiama-mariana-pineda-centro-de-artes-e-espetaculos-de-portalegre/
END:VEVENT
BEGIN:VEVENT
DTSTART;VALUE=DATE:20250927
DTEND;VALUE=DATE:20250928
DTSTAMP:20260420T054856
CREATED:20250804T162152Z
LAST-MODIFIED:20250804T162152Z
UID:10000072-1758931200-1759017599@umcoletivo.pt
SUMMARY:F de Fiama - Mariana Pineda - Centro de Artes e Espetáculos de Portalegre
DESCRIPTION:
URL:https://umcoletivo.pt/evento/f-de-fiama-mariana-pineda-centro-de-artes-e-espetaculos-de-portalegre-2/
END:VEVENT
BEGIN:VEVENT
DTSTART;VALUE=DATE:20250928
DTEND;VALUE=DATE:20251027
DTSTAMP:20260420T054856
CREATED:20250804T162948Z
LAST-MODIFIED:20250804T162948Z
UID:10000078-1759017600-1761523199@umcoletivo.pt
SUMMARY:Mil e Uma Noites - Ponto de Escuta - Museu de Arqueologia e Etnografia de Elvas
DESCRIPTION:
URL:https://umcoletivo.pt/evento/mil-e-uma-noites-ponto-de-escuta-museu-de-arqueologia-e-etnografia-de-elvas/
END:VEVENT
BEGIN:VEVENT
DTSTART;VALUE=DATE:20251002
DTEND;VALUE=DATE:20251003
DTSTAMP:20260420T054856
CREATED:20250804T162225Z
LAST-MODIFIED:20250804T162225Z
UID:10000073-1759363200-1759449599@umcoletivo.pt
SUMMARY:F de Fiama - Mariana Pineda - Auditório Ruy de Carvalho - Oeiras
DESCRIPTION:
URL:https://umcoletivo.pt/evento/f-de-fiama-mariana-pineda-auditorio-ruy-de-carvalho-oeiras/
END:VEVENT
BEGIN:VEVENT
DTSTART;VALUE=DATE:20251004
DTEND;VALUE=DATE:20251005
DTSTAMP:20260420T054856
CREATED:20250804T162300Z
LAST-MODIFIED:20250804T162300Z
UID:10000074-1759536000-1759622399@umcoletivo.pt
SUMMARY:F de Fiama - Mariana Pineda - Teatro Ibérico - Lisboa
DESCRIPTION:
URL:https://umcoletivo.pt/evento/f-de-fiama-mariana-pineda-teatro-iberico-lisboa/
END:VEVENT
BEGIN:VEVENT
DTSTART;VALUE=DATE:20251005
DTEND;VALUE=DATE:20251006
DTSTAMP:20260420T054856
CREATED:20250804T162345Z
LAST-MODIFIED:20250804T162345Z
UID:10000075-1759622400-1759708799@umcoletivo.pt
SUMMARY:F de Fiama - Mariana Pineda - Teatro Ibérico - Lisboa
DESCRIPTION:
URL:https://umcoletivo.pt/evento/f-de-fiama-mariana-pineda-teatro-iberico-lisboa-2/
END:VEVENT
BEGIN:VEVENT
DTSTART;VALUE=DATE:20251009
DTEND;VALUE=DATE:20251010
DTSTAMP:20260420T054856
CREATED:20250804T162415Z
LAST-MODIFIED:20250804T162415Z
UID:10000076-1759968000-1760054399@umcoletivo.pt
SUMMARY:F de Fiama - Mariana Pineda - Forum Luísa Todi - Setúbal
DESCRIPTION:
URL:https://umcoletivo.pt/evento/f-de-fiama-mariana-pineda-forum-luisa-todi-setubal/
END:VEVENT
BEGIN:VEVENT
DTSTART;VALUE=DATE:20251011
DTEND;VALUE=DATE:20251012
DTSTAMP:20260420T054856
CREATED:20250804T162803Z
LAST-MODIFIED:20250804T162803Z
UID:10000077-1760140800-1760227199@umcoletivo.pt
SUMMARY:F de Fiama - Mariana Pineda - Cineteatro Louletano - Loulé
DESCRIPTION:
URL:https://umcoletivo.pt/evento/f-de-fiama-mariana-pineda-cineteatro-louletano-loule/
END:VEVENT
BEGIN:VEVENT
DTSTART;VALUE=DATE:20251013
DTEND;VALUE=DATE:20251014
DTSTAMP:20260420T054856
CREATED:20250804T163110Z
LAST-MODIFIED:20250804T163110Z
UID:10000079-1760313600-1760399999@umcoletivo.pt
SUMMARY:Lungo Drom - Galeria Appleton - Lisboa
DESCRIPTION:
URL:https://umcoletivo.pt/evento/lungo-drom-galeria-appleton-lisboa-4/
END:VEVENT
BEGIN:VEVENT
DTSTART;VALUE=DATE:20251018
DTEND;VALUE=DATE:20251019
DTSTAMP:20260420T054856
CREATED:20250804T163449Z
LAST-MODIFIED:20250804T163449Z
UID:10000083-1760745600-1760831999@umcoletivo.pt
SUMMARY:Mil e Uma Noites - Biblioteca Municipal da Covilhã
DESCRIPTION:
URL:https://umcoletivo.pt/evento/mil-e-uma-noites-biblioteca-municipal-da-covilha-2/
END:VEVENT
BEGIN:VEVENT
DTSTART;VALUE=DATE:20251023
DTEND;VALUE=DATE:20251024
DTSTAMP:20260420T054856
CREATED:20250804T163536Z
LAST-MODIFIED:20250804T163536Z
UID:10000084-1761177600-1761263999@umcoletivo.pt
SUMMARY:Mil e Uma Noites - A Gráfica - Setúbal
DESCRIPTION:
URL:https://umcoletivo.pt/evento/mil-e-uma-noites-a-grafica-setubal/
END:VEVENT
BEGIN:VEVENT
DTSTART;VALUE=DATE:20251024
DTEND;VALUE=DATE:20251025
DTSTAMP:20260420T054856
CREATED:20250804T163629Z
LAST-MODIFIED:20250804T163629Z
UID:10000085-1761264000-1761350399@umcoletivo.pt
SUMMARY:Mil e Uma Noites - Sociedade de Artistas Estremocence - Estremoz
DESCRIPTION:
URL:https://umcoletivo.pt/evento/mil-e-uma-noites-sociedade-de-artistas-estremocence-estremoz/
END:VEVENT
BEGIN:VEVENT
DTSTART;TZID=UTC:20260212T213000
DTEND;TZID=UTC:20260212T213000
DTSTAMP:20260420T054856
CREATED:20260211T161526Z
LAST-MODIFIED:20260211T161602Z
UID:10000086-1770931800-1770931800@umcoletivo.pt
SUMMARY:Vaga Luz - Centro de Artes e Espetáculos de Portalegre
DESCRIPTION:
URL:https://umcoletivo.pt/evento/vaga-luz-centro-de-artes-e-espetaculos-de-portalegre/
END:VEVENT
BEGIN:VEVENT
DTSTART;VALUE=DATE:20260307
DTEND;VALUE=DATE:20260308
DTSTAMP:20260420T054856
CREATED:20260211T161849Z
LAST-MODIFIED:20260223T154150Z
UID:10000087-1772841600-1772927999@umcoletivo.pt
SUMMARY:Mil e Uma Noites - Auditório Municipal Lagoa
DESCRIPTION:
URL:https://umcoletivo.pt/evento/mil-e-uma-noites-auditorio-municipal-lagoa/
END:VEVENT
BEGIN:VEVENT
DTSTART;VALUE=DATE:20260308
DTEND;VALUE=DATE:20260309
DTSTAMP:20260420T054856
CREATED:20260211T161936Z
LAST-MODIFIED:20260211T161936Z
UID:10000088-1772928000-1773014399@umcoletivo.pt
SUMMARY:Olha a Bruxa Nicolau - Cineteatro Rogério Venâncio\, Minde
DESCRIPTION:
URL:https://umcoletivo.pt/evento/olha-a-bruxa-nicolau-cineteatro-rogerio-venancio-minde/
END:VEVENT
BEGIN:VEVENT
DTSTART;VALUE=DATE:20260314
DTEND;VALUE=DATE:20260315
DTSTAMP:20260420T054856
CREATED:20260211T162012Z
LAST-MODIFIED:20260211T162012Z
UID:10000089-1773446400-1773532799@umcoletivo.pt
SUMMARY:Vaga Luz - A Gráfica\, Setúbal
DESCRIPTION:
URL:https://umcoletivo.pt/evento/vaga-luz-a-grafica-setubal/
END:VEVENT
BEGIN:VEVENT
DTSTART;VALUE=DATE:20260315
DTEND;VALUE=DATE:20260316
DTSTAMP:20260420T054856
CREATED:20260211T162033Z
LAST-MODIFIED:20260211T162033Z
UID:10000090-1773532800-1773619199@umcoletivo.pt
SUMMARY:Vaga Luz - A Gráfica\, Setúbal
DESCRIPTION:
URL:https://umcoletivo.pt/evento/vaga-luz-a-grafica-setubal-2/
END:VEVENT
BEGIN:VEVENT
DTSTART;VALUE=DATE:20260316
DTEND;VALUE=DATE:20260317
DTSTAMP:20260420T054856
CREATED:20260211T162053Z
LAST-MODIFIED:20260223T154145Z
UID:10000091-1773619200-1773705599@umcoletivo.pt
SUMMARY:Mil e Uma Noites - Biblioteca Municipal de Ponte de Sor
DESCRIPTION:
URL:https://umcoletivo.pt/evento/mil-e-uma-noites-biblioteca-municipal-de-ponte-de-sor/
END:VEVENT
BEGIN:VEVENT
DTSTART;VALUE=DATE:20260319
DTEND;VALUE=DATE:20260320
DTSTAMP:20260420T054856
CREATED:20260211T162122Z
LAST-MODIFIED:20260211T162122Z
UID:10000092-1773878400-1773964799@umcoletivo.pt
SUMMARY:Penélope Parte 1 - Academia de Música Luisa Todi
DESCRIPTION:
URL:https://umcoletivo.pt/evento/penelope-parte-1-academia-de-musica-luisa-todi/
END:VEVENT
BEGIN:VEVENT
DTSTART;VALUE=DATE:20260320
DTEND;VALUE=DATE:20260321
DTSTAMP:20260420T054856
CREATED:20260211T162140Z
LAST-MODIFIED:20260211T162140Z
UID:10000093-1773964800-1774051199@umcoletivo.pt
SUMMARY:Vaga Luz - Teatro Cine de Torres Vedras
DESCRIPTION:
URL:https://umcoletivo.pt/evento/vaga-luz-teatro-cine-de-torres-vedras/
END:VEVENT
BEGIN:VEVENT
DTSTART;VALUE=DATE:20260401
DTEND;VALUE=DATE:20260402
DTSTAMP:20260420T054856
CREATED:20260211T162244Z
LAST-MODIFIED:20260211T162244Z
UID:10000094-1775001600-1775087999@umcoletivo.pt
SUMMARY:A Breve História do Sonho Piu - Escolas do concelho de Elvas
DESCRIPTION:
URL:https://umcoletivo.pt/evento/a-breve-historia-do-sonho-piu-escolas-do-concelho-de-elvas/
END:VEVENT
BEGIN:VEVENT
DTSTART;VALUE=DATE:20260402
DTEND;VALUE=DATE:20260403
DTSTAMP:20260420T054856
CREATED:20260211T162304Z
LAST-MODIFIED:20260211T162304Z
UID:10000095-1775088000-1775174399@umcoletivo.pt
SUMMARY:A Breve História do Sonho Piu - Escolas do concelho de Elvas
DESCRIPTION:
URL:https://umcoletivo.pt/evento/a-breve-historia-do-sonho-piu-escolas-do-concelho-de-elvas-2/
END:VEVENT
BEGIN:VEVENT
DTSTART;VALUE=DATE:20260408
DTEND;VALUE=DATE:20260409
DTSTAMP:20260420T054856
CREATED:20260211T162326Z
LAST-MODIFIED:20260211T162326Z
UID:10000096-1775606400-1775692799@umcoletivo.pt
SUMMARY:Como o Vento - Multiusos de Monforte
DESCRIPTION:
URL:https://umcoletivo.pt/evento/como-o-vento-multiusos-de-monforte/
END:VEVENT
BEGIN:VEVENT
DTSTART;VALUE=DATE:20260423
DTEND;VALUE=DATE:20260424
DTSTAMP:20260420T054856
CREATED:20260211T162622Z
LAST-MODIFIED:20260211T162622Z
UID:10000097-1776902400-1776988799@umcoletivo.pt
SUMMARY:A Tartaruguinha - Centro de Experimentação Artística do Vale da Amoreira
DESCRIPTION:
URL:https://umcoletivo.pt/evento/a-tartaruguinha-centro-de-experimentacao-artistica-do-vale-da-amoreira/
END:VEVENT
BEGIN:VEVENT
DTSTART;VALUE=DATE:20260504
DTEND;VALUE=DATE:20260505
DTSTAMP:20260420T054856
CREATED:20260211T162834Z
LAST-MODIFIED:20260211T162834Z
UID:10000098-1777852800-1777939199@umcoletivo.pt
SUMMARY:A Breve História do Sonho Piu - Escolas do concelho de Ponte de Sor
DESCRIPTION:
URL:https://umcoletivo.pt/evento/a-breve-historia-do-sonho-piu-escolas-do-concelho-de-ponte-de-sor/
END:VEVENT
BEGIN:VEVENT
DTSTART;VALUE=DATE:20260505
DTEND;VALUE=DATE:20260506
DTSTAMP:20260420T054856
CREATED:20260211T162851Z
LAST-MODIFIED:20260211T162851Z
UID:10000099-1777939200-1778025599@umcoletivo.pt
SUMMARY:A Breve História do Sonho Piu - Escolas do concelho de Ponte de Sor
DESCRIPTION:
URL:https://umcoletivo.pt/evento/a-breve-historia-do-sonho-piu-escolas-do-concelho-de-ponte-de-sor-2/
END:VEVENT
END:VCALENDAR