BEGIN:VCALENDAR
VERSION:2.0
PRODID:-//Um Coletivo - ECPv6.14.2//NONSGML v1.0//EN
CALSCALE:GREGORIAN
METHOD:PUBLISH
X-ORIGINAL-URL:https://umcoletivo.pt
X-WR-CALDESC:Eventos para Um Coletivo
REFRESH-INTERVAL;VALUE=DURATION:PT1H
X-Robots-Tag:noindex
X-PUBLISHED-TTL:PT1H
BEGIN:VTIMEZONE
TZID:UTC
BEGIN:STANDARD
TZOFFSETFROM:+0000
TZOFFSETTO:+0000
TZNAME:UTC
DTSTART:20260101T000000
END:STANDARD
END:VTIMEZONE
BEGIN:VEVENT
DTSTART;VALUE=DATE:20260319
DTEND;VALUE=DATE:20260320
DTSTAMP:20260420T203037
CREATED:20260211T162122Z
LAST-MODIFIED:20260211T162122Z
UID:10000092-1773878400-1773964799@umcoletivo.pt
SUMMARY:Penélope Parte 1 - Academia de Música Luisa Todi
DESCRIPTION:
URL:https://umcoletivo.pt/evento/penelope-parte-1-academia-de-musica-luisa-todi/
END:VEVENT
BEGIN:VEVENT
DTSTART;VALUE=DATE:20260320
DTEND;VALUE=DATE:20260321
DTSTAMP:20260420T203037
CREATED:20260211T162140Z
LAST-MODIFIED:20260211T162140Z
UID:10000093-1773964800-1774051199@umcoletivo.pt
SUMMARY:Vaga Luz - Teatro Cine de Torres Vedras
DESCRIPTION:
URL:https://umcoletivo.pt/evento/vaga-luz-teatro-cine-de-torres-vedras/
END:VEVENT
BEGIN:VEVENT
DTSTART;VALUE=DATE:20260401
DTEND;VALUE=DATE:20260402
DTSTAMP:20260420T203037
CREATED:20260211T162244Z
LAST-MODIFIED:20260211T162244Z
UID:10000094-1775001600-1775087999@umcoletivo.pt
SUMMARY:A Breve História do Sonho Piu - Escolas do concelho de Elvas
DESCRIPTION:
URL:https://umcoletivo.pt/evento/a-breve-historia-do-sonho-piu-escolas-do-concelho-de-elvas/
END:VEVENT
BEGIN:VEVENT
DTSTART;VALUE=DATE:20260402
DTEND;VALUE=DATE:20260403
DTSTAMP:20260420T203037
CREATED:20260211T162304Z
LAST-MODIFIED:20260211T162304Z
UID:10000095-1775088000-1775174399@umcoletivo.pt
SUMMARY:A Breve História do Sonho Piu - Escolas do concelho de Elvas
DESCRIPTION:
URL:https://umcoletivo.pt/evento/a-breve-historia-do-sonho-piu-escolas-do-concelho-de-elvas-2/
END:VEVENT
BEGIN:VEVENT
DTSTART;VALUE=DATE:20260408
DTEND;VALUE=DATE:20260409
DTSTAMP:20260420T203037
CREATED:20260211T162326Z
LAST-MODIFIED:20260211T162326Z
UID:10000096-1775606400-1775692799@umcoletivo.pt
SUMMARY:Como o Vento - Multiusos de Monforte
DESCRIPTION:
URL:https://umcoletivo.pt/evento/como-o-vento-multiusos-de-monforte/
END:VEVENT
BEGIN:VEVENT
DTSTART;VALUE=DATE:20260423
DTEND;VALUE=DATE:20260424
DTSTAMP:20260420T203037
CREATED:20260211T162622Z
LAST-MODIFIED:20260211T162622Z
UID:10000097-1776902400-1776988799@umcoletivo.pt
SUMMARY:A Tartaruguinha - Centro de Experimentação Artística do Vale da Amoreira
DESCRIPTION:
URL:https://umcoletivo.pt/evento/a-tartaruguinha-centro-de-experimentacao-artistica-do-vale-da-amoreira/
END:VEVENT
BEGIN:VEVENT
DTSTART;VALUE=DATE:20260504
DTEND;VALUE=DATE:20260505
DTSTAMP:20260420T203037
CREATED:20260211T162834Z
LAST-MODIFIED:20260211T162834Z
UID:10000098-1777852800-1777939199@umcoletivo.pt
SUMMARY:A Breve História do Sonho Piu - Escolas do concelho de Ponte de Sor
DESCRIPTION:
URL:https://umcoletivo.pt/evento/a-breve-historia-do-sonho-piu-escolas-do-concelho-de-ponte-de-sor/
END:VEVENT
BEGIN:VEVENT
DTSTART;VALUE=DATE:20260505
DTEND;VALUE=DATE:20260506
DTSTAMP:20260420T203037
CREATED:20260211T162851Z
LAST-MODIFIED:20260211T162851Z
UID:10000099-1777939200-1778025599@umcoletivo.pt
SUMMARY:A Breve História do Sonho Piu - Escolas do concelho de Ponte de Sor
DESCRIPTION:
URL:https://umcoletivo.pt/evento/a-breve-historia-do-sonho-piu-escolas-do-concelho-de-ponte-de-sor-2/
END:VEVENT
BEGIN:VEVENT
DTSTART;VALUE=DATE:20260506
DTEND;VALUE=DATE:20260507
DTSTAMP:20260420T203037
CREATED:20260211T162909Z
LAST-MODIFIED:20260211T162909Z
UID:10000100-1778025600-1778111999@umcoletivo.pt
SUMMARY:A Breve História do Sonho Piu - Escolas do concelho de Ponte de Sor
DESCRIPTION:
URL:https://umcoletivo.pt/evento/a-breve-historia-do-sonho-piu-escolas-do-concelho-de-ponte-de-sor-3/
END:VEVENT
BEGIN:VEVENT
DTSTART;VALUE=DATE:20260507
DTEND;VALUE=DATE:20260508
DTSTAMP:20260420T203037
CREATED:20260211T162926Z
LAST-MODIFIED:20260211T162926Z
UID:10000101-1778112000-1778198399@umcoletivo.pt
SUMMARY:A Breve História do Sonho Piu - Escolas do concelho de Ponte de Sor
DESCRIPTION:
URL:https://umcoletivo.pt/evento/a-breve-historia-do-sonho-piu-escolas-do-concelho-de-ponte-de-sor-4/
END:VEVENT
BEGIN:VEVENT
DTSTART;VALUE=DATE:20260508
DTEND;VALUE=DATE:20260509
DTSTAMP:20260420T203037
CREATED:20260211T162942Z
LAST-MODIFIED:20260211T162942Z
UID:10000102-1778198400-1778284799@umcoletivo.pt
SUMMARY:A Breve História do Sonho Piu - Escolas do concelho de Ponte de Sor
DESCRIPTION:
URL:https://umcoletivo.pt/evento/a-breve-historia-do-sonho-piu-escolas-do-concelho-de-ponte-de-sor-5/
END:VEVENT
BEGIN:VEVENT
DTSTART;VALUE=DATE:20260514
DTEND;VALUE=DATE:20260515
DTSTAMP:20260420T203037
CREATED:20260211T163006Z
LAST-MODIFIED:20260211T163006Z
UID:10000103-1778716800-1778803199@umcoletivo.pt
SUMMARY:Vaga Luz - Universidade de Évora - Polo dos Leões
DESCRIPTION:
URL:https://umcoletivo.pt/evento/vaga-luz-universidade-de-evora-polo-dos-leoes/
END:VEVENT
END:VCALENDAR