BEGIN:VCALENDAR
VERSION:2.0
PRODID:-//Um Coletivo - ECPv6.14.2//NONSGML v1.0//EN
CALSCALE:GREGORIAN
METHOD:PUBLISH
X-WR-CALNAME:Um Coletivo
X-ORIGINAL-URL:https://umcoletivo.pt
X-WR-CALDESC:Eventos para Um Coletivo
REFRESH-INTERVAL;VALUE=DURATION:PT1H
X-Robots-Tag:noindex
X-PUBLISHED-TTL:PT1H
BEGIN:VTIMEZONE
TZID:UTC
BEGIN:STANDARD
TZOFFSETFROM:+0000
TZOFFSETTO:+0000
TZNAME:UTC
DTSTART:20250101T000000
END:STANDARD
END:VTIMEZONE
BEGIN:VEVENT
DTSTART;TZID=UTC:20250801T213000
DTEND;TZID=UTC:20250804T000000
DTSTAMP:20260420T023735
CREATED:20250804T160950Z
LAST-MODIFIED:20250804T161220Z
UID:10000062-1754083800-1754265600@umcoletivo.pt
SUMMARY:A Vida Pelo Mundo em Pedaços - Auditório da frente Ribeirinha de Ponte de Sôr
DESCRIPTION:
URL:https://umcoletivo.pt/evento/a-vida-pelo-mundo-em-pedacos-auditorio-da-frente-ribeirinha-de-ponte-de-sor/
END:VEVENT
BEGIN:VEVENT
DTSTART;TZID=UTC:20250802T160000
DTEND;TZID=UTC:20250802T160000
DTSTAMP:20260420T023735
CREATED:20250804T161339Z
LAST-MODIFIED:20250804T161339Z
UID:10000063-1754150400-1754150400@umcoletivo.pt
SUMMARY:Mil e Uma Noites - Casa da Cultura de Montargil
DESCRIPTION:
URL:https://umcoletivo.pt/evento/mil-e-uma-noites-casa-da-cultura-de-montargil/
END:VEVENT
BEGIN:VEVENT
DTSTART;TZID=UTC:20250802T210000
DTEND;TZID=UTC:20250802T210000
DTSTAMP:20260420T023735
CREATED:20250804T161504Z
LAST-MODIFIED:20250804T161504Z
UID:10000064-1754168400-1754168400@umcoletivo.pt
SUMMARY:Mil e Uma Noites - Teatro Cinema de Ponte de Sor
DESCRIPTION:
URL:https://umcoletivo.pt/evento/mil-e-uma-noites-teatro-cinema-de-ponte-de-sor/
END:VEVENT
BEGIN:VEVENT
DTSTART;VALUE=DATE:20250815
DTEND;VALUE=DATE:20250816
DTSTAMP:20260420T023735
CREATED:20250522T101353Z
LAST-MODIFIED:20250522T101353Z
UID:10000061-1755216000-1755302399@umcoletivo.pt
SUMMARY:Lamento - Avis
DESCRIPTION:
URL:https://umcoletivo.pt/evento/lamento-avis/
END:VEVENT
BEGIN:VEVENT
DTSTART;VALUE=DATE:20250830
DTEND;VALUE=DATE:20250831
DTSTAMP:20260420T023735
CREATED:20250804T161814Z
LAST-MODIFIED:20250804T161814Z
UID:10000067-1756512000-1756598399@umcoletivo.pt
SUMMARY:Olha a Bruxa Nicolau - Festival Internacional de Teatro de Setúbal - A Festa do Teatro
DESCRIPTION:
URL:https://umcoletivo.pt/evento/olha-a-bruxa-nicolau-festival-internacional-de-teatro-de-setubal-a-festa-do-teatro/
END:VEVENT
END:VCALENDAR