BEGIN:VCALENDAR
VERSION:2.0
PRODID:-//Um Coletivo - ECPv6.14.2//NONSGML v1.0//EN
CALSCALE:GREGORIAN
METHOD:PUBLISH
X-WR-CALNAME:Um Coletivo
X-ORIGINAL-URL:https://umcoletivo.pt/en
X-WR-CALDESC:Events for Um Coletivo
REFRESH-INTERVAL;VALUE=DURATION:PT1H
X-Robots-Tag:noindex
X-PUBLISHED-TTL:PT1H
BEGIN:VTIMEZONE
TZID:UTC
BEGIN:STANDARD
TZOFFSETFROM:+0000
TZOFFSETTO:+0000
TZNAME:UTC
DTSTART:20250101T000000
END:STANDARD
END:VTIMEZONE
BEGIN:VEVENT
DTSTART;TZID=UTC:20250609T203000
DTEND;TZID=UTC:20250614T000000
DTSTAMP:20260420T012459
CREATED:20250522T100742Z
LAST-MODIFIED:20250522T100742Z
UID:10000052-1749501000-1749859200@umcoletivo.pt
SUMMARY:Junho em Cena - Lamento - Largo de Monte Carvalho
DESCRIPTION:
URL:https://umcoletivo.pt/en/evento/junho-em-cena-lamento-largo-de-monte-carvalho/
END:VEVENT
END:VCALENDAR