BEGIN:VCALENDAR
VERSION:2.0
PRODID:-//Um Coletivo - ECPv6.14.2//NONSGML v1.0//EN
CALSCALE:GREGORIAN
METHOD:PUBLISH
X-WR-CALNAME:Um Coletivo
X-ORIGINAL-URL:https://umcoletivo.pt/es
X-WR-CALDESC:Eventos para Um Coletivo
REFRESH-INTERVAL;VALUE=DURATION:PT1H
X-Robots-Tag:noindex
X-PUBLISHED-TTL:PT1H
BEGIN:VTIMEZONE
TZID:UTC
BEGIN:STANDARD
TZOFFSETFROM:+0000
TZOFFSETTO:+0000
TZNAME:UTC
DTSTART:20240101T000000
END:STANDARD
END:VTIMEZONE
BEGIN:VEVENT
DTSTART;TZID=UTC:20240425T140000
DTEND;TZID=UTC:20240425T140000
DTSTAMP:20260420T101415
CREATED:20240322T175150Z
LAST-MODIFIED:20240322T175150Z
UID:10000009-1714053600-1714053600@umcoletivo.pt
SUMMARY:Tarde Branca do Mês de Janeiro - Centro de Artes e Espetáculos de Portalegre
DESCRIPTION:
URL:https://umcoletivo.pt/es/evento/tarde-branca-do-mes-de-janeiro-centro-de-artes-e-espetaculos-de-portalegre/2024-04-25/
LOCATION:Centro de Artes e Espetáculos de Portalegre\, Portalegre\, Portugal
END:VEVENT
BEGIN:VEVENT
DTSTART;TZID=UTC:20240425T140000
DTEND;TZID=UTC:20240425T140000
DTSTAMP:20260420T101415
CREATED:20240322T175412Z
LAST-MODIFIED:20240322T175412Z
UID:10000010-1714053600-1714053600@umcoletivo.pt
SUMMARY:A Paz é a Paz - Centro de Artes e Espetáculos de Portalegre
DESCRIPTION:
URL:https://umcoletivo.pt/es/evento/a-paz-e-a-paz-centro-de-artes-e-espetaculos-de-portalegre/2024-04-25/
LOCATION:Centro de Artes e Espetáculos de Portalegre\, Portalegre\, Portugal
END:VEVENT
END:VCALENDAR