BEGIN:VCALENDAR
VERSION:2.0
PRODID:-//Um Coletivo - ECPv6.14.2//NONSGML v1.0//EN
CALSCALE:GREGORIAN
METHOD:PUBLISH
X-WR-CALNAME:Um Coletivo
X-ORIGINAL-URL:https://umcoletivo.pt/es
X-WR-CALDESC:Eventos para Um Coletivo
REFRESH-INTERVAL;VALUE=DURATION:PT1H
X-Robots-Tag:noindex
X-PUBLISHED-TTL:PT1H
BEGIN:VTIMEZONE
TZID:UTC
BEGIN:STANDARD
TZOFFSETFROM:+0000
TZOFFSETTO:+0000
TZNAME:UTC
DTSTART:20250101T000000
END:STANDARD
END:VTIMEZONE
BEGIN:VEVENT
DTSTART;VALUE=DATE:20250427
DTEND;VALUE=DATE:20250428
DTSTAMP:20260419T214700
CREATED:20250122T115547Z
LAST-MODIFIED:20250122T115547Z
UID:10000040-1745712000-1745798399@umcoletivo.pt
SUMMARY:Olha a Bruxa Nicolau - Elvas
DESCRIPTION:
URL:https://umcoletivo.pt/es/evento/olha-a-bruxa-nicolau-elvas/2025-04-27/
END:VEVENT
END:VCALENDAR