BEGIN:VCALENDAR
VERSION:2.0
PRODID:-//Um Coletivo - ECPv6.14.2//NONSGML v1.0//EN
CALSCALE:GREGORIAN
METHOD:PUBLISH
X-ORIGINAL-URL:https://umcoletivo.pt/es
X-WR-CALDESC:Eventos para Um Coletivo
REFRESH-INTERVAL;VALUE=DURATION:PT1H
X-Robots-Tag:noindex
X-PUBLISHED-TTL:PT1H
BEGIN:VTIMEZONE
TZID:UTC
BEGIN:STANDARD
TZOFFSETFROM:+0000
TZOFFSETTO:+0000
TZNAME:UTC
DTSTART:20250101T000000
END:STANDARD
END:VTIMEZONE
BEGIN:VEVENT
DTSTART;VALUE=DATE:20250926
DTEND;VALUE=DATE:20250927
DTSTAMP:20260420T071450
CREATED:20250804T162128Z
LAST-MODIFIED:20250804T162128Z
UID:10000071-1758844800-1758931199@umcoletivo.pt
SUMMARY:F de Fiama - Mariana Pineda - Centro de Artes e Espetáculos de Portalegre
DESCRIPTION:
URL:https://umcoletivo.pt/es/evento/f-de-fiama-mariana-pineda-centro-de-artes-e-espetaculos-de-portalegre/
END:VEVENT
END:VCALENDAR