BEGIN:VCALENDAR
VERSION:2.0
PRODID:-//Um Coletivo - ECPv6.14.2//NONSGML v1.0//EN
CALSCALE:GREGORIAN
METHOD:PUBLISH
X-WR-CALNAME:Um Coletivo
X-ORIGINAL-URL:https://umcoletivo.pt/es
X-WR-CALDESC:Eventos para Um Coletivo
REFRESH-INTERVAL;VALUE=DURATION:PT1H
X-Robots-Tag:noindex
X-PUBLISHED-TTL:PT1H
BEGIN:VTIMEZONE
TZID:UTC
BEGIN:STANDARD
TZOFFSETFROM:+0000
TZOFFSETTO:+0000
TZNAME:UTC
DTSTART:20240101T000000
END:STANDARD
END:VTIMEZONE
BEGIN:VEVENT
DTSTART;TZID=UTC:20240322T100000
DTEND;TZID=UTC:20240322T100000
DTSTAMP:20260420T101613
CREATED:20240322T175542Z
LAST-MODIFIED:20240322T175542Z
UID:10000013-1711101600-1711101600@umcoletivo.pt
SUMMARY:Apresentação do livro "A Mais Terna Ilusão" - Biblioteca Municipal de Lagos
DESCRIPTION:
URL:https://umcoletivo.pt/es/evento/apresentacao-do-livro-a-mais-terna-ilusao-biblioteca-municipal-de-lagos/
LOCATION:Biblioteca Municipal de Lagos\, Lagos\, Portugal
END:VEVENT
BEGIN:VEVENT
DTSTART;TZID=UTC:20240327T100000
DTEND;TZID=UTC:20240327T220000
DTSTAMP:20260420T101613
CREATED:20240322T172911Z
LAST-MODIFIED:20250204T161147Z
UID:10000001-1711533600-1711576800@umcoletivo.pt
SUMMARY:Mil e Uma Noites - Maratona de gravação na redação do Jornal Público
DESCRIPTION:
URL:https://umcoletivo.pt/es/evento/mil-e-uma-noites-maratona-de-gravacao-na-redacao-do-jornal-publico/
LOCATION:Redação do Jornal Público\, Lisboa\, Portugal
END:VEVENT
END:VCALENDAR