BEGIN:VCALENDAR
VERSION:2.0
PRODID:-//Um Coletivo - ECPv6.14.2//NONSGML v1.0//EN
CALSCALE:GREGORIAN
METHOD:PUBLISH
X-ORIGINAL-URL:https://umcoletivo.pt/es
X-WR-CALDESC:Eventos para Um Coletivo
REFRESH-INTERVAL;VALUE=DURATION:PT1H
X-Robots-Tag:noindex
X-PUBLISHED-TTL:PT1H
BEGIN:VTIMEZONE
TZID:UTC
BEGIN:STANDARD
TZOFFSETFROM:+0000
TZOFFSETTO:+0000
TZNAME:UTC
DTSTART:20240101T000000
END:STANDARD
END:VTIMEZONE
BEGIN:VEVENT
DTSTART;TZID=UTC:20240912T213000
DTEND;TZID=UTC:20240912T213000
DTSTAMP:20260420T011220
CREATED:20240912T172636Z
LAST-MODIFIED:20240912T172636Z
UID:10000025-1726176600-1726176600@umcoletivo.pt
SUMMARY:Escuridão Bonita - Biblioteca Municipal Santos Rocha - Figueira da Foz
DESCRIPTION:
URL:https://umcoletivo.pt/es/evento/escuridao-bonita-biblioteca-municipal-santos-rocha-figueira-da-foz/
END:VEVENT
BEGIN:VEVENT
DTSTART;TZID=UTC:20240927T213000
DTEND;TZID=UTC:20240927T213000
DTSTAMP:20260420T011220
CREATED:20240912T163001Z
LAST-MODIFIED:20240912T163001Z
UID:10000024-1727472600-1727472600@umcoletivo.pt
SUMMARY:Memória da Matéria - Centro de Artes e Espetáculos de Portalegre
DESCRIPTION:
URL:https://umcoletivo.pt/es/evento/memoria-da-materia-centro-de-artes-e-espetaculos-de-portalegre/
END:VEVENT
BEGIN:VEVENT
DTSTART;TZID=UTC:20240929T180000
DTEND;TZID=UTC:20240930T170000
DTSTAMP:20260420T011220
CREATED:20240912T172728Z
LAST-MODIFIED:20240912T172728Z
UID:10000026-1727632800-1727715600@umcoletivo.pt
SUMMARY:Memória da Matéria - Biblioteca Municipal da Covilhã
DESCRIPTION:
URL:https://umcoletivo.pt/es/evento/memoria-da-materia-biblioteca-municipal-da-covilha/
END:VEVENT
END:VCALENDAR